BEGIN:VCALENDAR
VERSION:2.0
PRODID:-//Edlio Inc//Edlio Calendar//EN
CALSCALE:GREGORIAN
METHOD:PUBLISH
X-WR-CALNAME:Hamilton County Mathematics & Science Academy - Events
X-ORIGINAL-URL:https://www.hcmsa.net
X-WR-CALDESC:Events calendar for www.hcmsa.net
X-WR-TIMEZONE:US/Eastern
REFRESH-INTERVAL;VALUE=DURATION:PT1H
X-Robots-Tag:noindex
X-PUBLISHED-TTL:PT1H
BEGIN:VTIMEZONE
TZID:US/Eastern
BEGIN:STANDARD
TZOFFSETFROM:-0400
TZOFFSETTO:-0500
DTSTART:20071104T020000
RRULE:FREQ=YEARLY;BYMONTH=11;BYDAY=1SU
END:STANDARD
BEGIN:DAYLIGHT
TZOFFSETFROM:-0500
TZOFFSETTO:-0400
DTSTART:20070311T020000
RRULE:FREQ=YEARLY;BYMONTH=3;BYDAY=2SU
END:DAYLIGHT
END:VTIMEZONE
BEGIN:VTIMEZONE
TZID:US/East-Indiana
BEGIN:STANDARD
TZOFFSETFROM:-0500
TZOFFSETTO:-0500
DTSTART:19701025T020000
END:STANDARD
END:VTIMEZONE
BEGIN:VTIMEZONE
TZID:US/Eastern
BEGIN:STANDARD
TZOFFSETFROM:-0400
TZOFFSETTO:-0500
DTSTART:19701025T020000
RRULE:FREQ=YEARLY;BYMONTH=10;BYDAY=-1SU;UNTIL=20070311T020000
END:STANDARD
BEGIN:STANDARD
TZOFFSETFROM:-0400
TZOFFSETTO:-0500
DTSTART:20071104T020000
RRULE:FREQ=YEARLY;BYMONTH=11;BYDAY=1SU
END:STANDARD
BEGIN:DAYLIGHT
TZOFFSETFROM:-0500
TZOFFSETTO:-0400
DTSTART:19870405T020000
RRULE:FREQ=YEARLY;BYMONTH=4;BYDAY=1SU;UNTIL=20061029T020000
END:DAYLIGHT
BEGIN:DAYLIGHT
TZOFFSETFROM:-0500
TZOFFSETTO:-0400
DTSTART:20070311T020000
RRULE:FREQ=YEARLY;BYMONTH=3;BYDAY=2SU
END:DAYLIGHT
END:VTIMEZONE
BEGIN:VTIMEZONE
TZID:US/Michigan
BEGIN:STANDARD
TZOFFSETFROM:-0400
TZOFFSETTO:-0500
DTSTART:19701025T020000
RRULE:FREQ=YEARLY;BYMONTH=10;BYDAY=-1SU;UNTIL=20070311T020000
END:STANDARD
BEGIN:STANDARD
TZOFFSETFROM:-0400
TZOFFSETTO:-0500
DTSTART:20071104T020000
RRULE:FREQ=YEARLY;BYMONTH=11;BYDAY=1SU
END:STANDARD
BEGIN:DAYLIGHT
TZOFFSETFROM:-0500
TZOFFSETTO:-0400
DTSTART:19870405T020000
RRULE:FREQ=YEARLY;BYMONTH=4;BYDAY=1SU;UNTIL=20061029T020000
END:DAYLIGHT
BEGIN:DAYLIGHT
TZOFFSETFROM:-0500
TZOFFSETTO:-0400
DTSTART:20070311T020000
RRULE:FREQ=YEARLY;BYMONTH=3;BYDAY=2SU
END:DAYLIGHT
END:VTIMEZONE
BEGIN:VTIMEZONE
TZID:US/Central
BEGIN:STANDARD
TZOFFSETFROM:-0500
TZOFFSETTO:-0600
DTSTART:19701025T020000
RRULE:FREQ=YEARLY;BYMONTH=10;BYDAY=-1SU;UNTIL=20070311T020000
END:STANDARD
BEGIN:STANDARD
TZOFFSETFROM:-0500
TZOFFSETTO:-0600
DTSTART:20071104T020000
RRULE:FREQ=YEARLY;BYMONTH=11;BYDAY=1SU
END:STANDARD
BEGIN:DAYLIGHT
TZOFFSETFROM:-0600
TZOFFSETTO:-0500
DTSTART:19870405T020000
RRULE:FREQ=YEARLY;BYMONTH=4;BYDAY=1SU;UNTIL=20061029T020000
END:DAYLIGHT
BEGIN:DAYLIGHT
TZOFFSETFROM:-0600
TZOFFSETTO:-0500
DTSTART:20070311T020000
RRULE:FREQ=YEARLY;BYMONTH=3;BYDAY=2SU
END:DAYLIGHT
END:VTIMEZONE
BEGIN:VTIMEZONE
TZID:US/Mountain
BEGIN:STANDARD
TZOFFSETFROM:-0600
TZOFFSETTO:-0700
DTSTART:19701025T020000
RRULE:FREQ=YEARLY;BYMONTH=10;BYDAY=-1SU;UNTIL=20070311T020000
END:STANDARD
BEGIN:STANDARD
TZOFFSETFROM:-0600
TZOFFSETTO:-0700
DTSTART:20071104T020000
RRULE:FREQ=YEARLY;BYMONTH=11;BYDAY=1SU
END:STANDARD
BEGIN:DAYLIGHT
TZOFFSETFROM:-0700
TZOFFSETTO:-0600
DTSTART:19870405T020000
RRULE:FREQ=YEARLY;BYMONTH=4;BYDAY=1SU;UNTIL=20061029T020000
END:DAYLIGHT
BEGIN:DAYLIGHT
TZOFFSETFROM:-0700
TZOFFSETTO:-0600
DTSTART:20070311T020000
RRULE:FREQ=YEARLY;BYMONTH=3;BYDAY=2SU
END:DAYLIGHT
END:VTIMEZONE
BEGIN:VTIMEZONE
TZID:US/Arizona
BEGIN:STANDARD
TZOFFSETFROM:-0700
TZOFFSETTO:-0700
DTSTART:19701025T020000
END:STANDARD
END:VTIMEZONE
BEGIN:VTIMEZONE
TZID:US/Pacific
BEGIN:STANDARD
TZOFFSETFROM:-0700
TZOFFSETTO:-0800
DTSTART:19701025T020000
RRULE:FREQ=YEARLY;BYMONTH=10;BYDAY=-1SU;UNTIL=20070311T020000
END:STANDARD
BEGIN:STANDARD
TZOFFSETFROM:-0700
TZOFFSETTO:-0800
DTSTART:20071104T020000
RRULE:FREQ=YEARLY;BYMONTH=11;BYDAY=1SU
END:STANDARD
BEGIN:DAYLIGHT
TZOFFSETFROM:-0800
TZOFFSETTO:-0700
DTSTART:19870405T020000
RRULE:FREQ=YEARLY;BYMONTH=4;BYDAY=1SU;UNTIL=20061029T020000
END:DAYLIGHT
BEGIN:DAYLIGHT
TZOFFSETFROM:-0800
TZOFFSETTO:-0700
DTSTART:20070311T020000
RRULE:FREQ=YEARLY;BYMONTH=3;BYDAY=2SU
END:DAYLIGHT
END:VTIMEZONE
BEGIN:VTIMEZONE
TZID:US/Alaska
BEGIN:STANDARD
TZOFFSETFROM:-0800
TZOFFSETTO:-0900
DTSTART:19701025T020000
RRULE:FREQ=YEARLY;BYMONTH=10;BYDAY=-1SU;UNTIL=20070311T020000
END:STANDARD
BEGIN:STANDARD
TZOFFSETFROM:-0800
TZOFFSETTO:-0900
DTSTART:20071104T020000
RRULE:FREQ=YEARLY;BYMONTH=11;BYDAY=1SU
END:STANDARD
BEGIN:DAYLIGHT
TZOFFSETFROM:-0900
TZOFFSETTO:-0800
DTSTART:19870405T020000
RRULE:FREQ=YEARLY;BYMONTH=4;BYDAY=1SU;UNTIL=20061029T020000
END:DAYLIGHT
BEGIN:DAYLIGHT
TZOFFSETFROM:-0900
TZOFFSETTO:-0800
DTSTART:20070311T020000
RRULE:FREQ=YEARLY;BYMONTH=3;BYDAY=2SU
END:DAYLIGHT
END:VTIMEZONE
BEGIN:VTIMEZONE
TZID:US/Hawaii
BEGIN:STANDARD
TZOFFSETFROM:-1000
TZOFFSETTO:-1000
DTSTART:19701025T020000
END:STANDARD
END:VTIMEZONE
BEGIN:VTIMEZONE
TZID:US/Aleutian
BEGIN:STANDARD
TZOFFSETFROM:-1000
TZOFFSETTO:-1000
DTSTART:19701025T020000
END:STANDARD
END:VTIMEZONE
BEGIN:VTIMEZONE
TZID:US/Samoa
BEGIN:STANDARD
TZOFFSETFROM:-1100
TZOFFSETTO:-1100
DTSTART:19701025T020000
END:STANDARD
END:VTIMEZONE
BEGIN:VEVENT
UID:37675127@www.hcmsa.net#20260318
SEQUENCE:0
CREATED:20260318T184326Z
LAST-MODIFIED:20260318T184326Z
DTSTART;TZID=US/Eastern:20260318T180000
DTEND;TZID=US/Eastern:20260318T180000
SUMMARY:HCMSA BOARD EMERGENCY MEETING FOR MONDAY MARCH 18TH\, 2026 @ 6:00PM
LOCATION:2675 Civic Center Dr
CATEGORIES:Events
URL:https://www.hcmsa.net/apps/events/37675127/
ORGANIZER;CN="Edlio Calendar":MAILTO:noreply@www.hcmsa.net
DTSTAMP:20260421T154815Z
END:VEVENT
BEGIN:VEVENT
UID:28841772@www.hcmsa.net#20250623
SEQUENCE:0
CREATED:20250630T185358Z
LAST-MODIFIED:20250630T185358Z
DTSTART;TZID=US/Eastern:20250623T180000
DTEND;TZID=US/Eastern:20250623T180000
SUMMARY:HCMSA BOARD MEETING FOR MONDAY JUNE 23RD\, 2025 @ 6:00PM
LOCATION:2675 Civic Center Dr\, Cincinnati OH\, 45231
CATEGORIES:Events
URL:https://www.hcmsa.net/apps/events/28841772/
ORGANIZER;CN="Edlio Calendar":MAILTO:noreply@www.hcmsa.net
DTSTAMP:20260421T154815Z
END:VEVENT
BEGIN:VEVENT
UID:28841787@www.hcmsa.net#20250609
SEQUENCE:0
CREATED:20250630T190444Z
LAST-MODIFIED:20250630T190444Z
DTSTART;TZID=US/Eastern:20250609T180000
DTEND;TZID=US/Eastern:20250609T180000
SUMMARY:HCMSA BOARD MEETING FOR MONDAY JUNE 9TH\, 2025 @ 6:00PM "CANCELED"
LOCATION:2675 Civic Center Dr\, Cincinnati OH\, 45231
CATEGORIES:Events
URL:https://www.hcmsa.net/apps/events/28841787/
ORGANIZER;CN="Edlio Calendar":MAILTO:noreply@www.hcmsa.net
DTSTAMP:20260421T154815Z
END:VEVENT
BEGIN:VEVENT
UID:28841771@www.hcmsa.net#20250512
SEQUENCE:1
CREATED:20250630T185409Z
LAST-MODIFIED:20250630T185409Z
DTSTART;TZID=US/Eastern:20250512T180000
DTEND;TZID=US/Eastern:20250512T180000
SUMMARY:HCMSA BOARD MEETING FOR MONDAY MAY 12TH\, 2025 @ 6:00PM
LOCATION:2675 Civic Center Dr\, Cincinnati OH\, 45231
CATEGORIES:Events
URL:https://www.hcmsa.net/apps/events/28841771/
ORGANIZER;CN="Edlio Calendar":MAILTO:noreply@www.hcmsa.net
DTSTAMP:20260421T154815Z
END:VEVENT
BEGIN:VEVENT
UID:35701184@www.hcmsa.net#20251208
SEQUENCE:0
CREATED:20251208T155421Z
LAST-MODIFIED:20251208T155421Z
DTSTART;TZID=US/Eastern:20251208T180000
DTEND;TZID=US/Eastern:20251208T180000
SUMMARY:HCMSA BOARD MEETING MONDAY DECEMBER\, 8TH 2025 @ 6:00PM
LOCATION:10808 Montgomery Rd\, Cincinnati Ohio 45242
CATEGORIES:Events
URL:https://www.hcmsa.net/apps/events/35701184/
ORGANIZER;CN="Edlio Calendar":MAILTO:noreply@www.hcmsa.net
DTSTAMP:20260421T154815Z
END:VEVENT
BEGIN:VEVENT
UID:35701194@www.hcmsa.net#20260112
SEQUENCE:1
CREATED:20260112T163037Z
LAST-MODIFIED:20260112T163037Z
DTSTART;TZID=US/Eastern:20260112T180000
DTEND;TZID=US/Eastern:20260112T180000
SUMMARY:HCMSA BOARD MEETING MONDAY JANUARY 12TH\, 2026 @ 6:00PM
LOCATION:2675 Civic Center Dr
CATEGORIES:Events
URL:https://www.hcmsa.net/apps/events/35701194/
ORGANIZER;CN="Edlio Calendar":MAILTO:noreply@www.hcmsa.net
DTSTAMP:20260421T154815Z
END:VEVENT
BEGIN:VEVENT
UID:30997197@www.hcmsa.net#20250811
SEQUENCE:2
CREATED:20250806T214042Z
LAST-MODIFIED:20250806T214042Z
DTSTART;TZID=US/Eastern:20250811T180000
DTEND;TZID=US/Eastern:20250811T180000
SUMMARY:HCMSA SPECIAL  BOARD MEETING FOR MONDAY AUGUST 11TH\, 2025 @ 6:00PM
LOCATION:2675 Civic Center Dr. Cincinnati OH 45231
CATEGORIES:Events
DESCRIPTION:Board Member<br>Policies<br>Policy Review<br>Action Plan<br>Res
 olutions\n<a href=' https://www.hcmsa.net/apps/events/30997197/'>Read more
 </a>
URL:https://www.hcmsa.net/apps/events/30997197/
ORGANIZER;CN="Edlio Calendar":MAILTO:noreply@www.hcmsa.net
DTSTAMP:20260421T154815Z
END:VEVENT
BEGIN:VEVENT
UID:40705741@www.hcmsa.net#20260421
SEQUENCE:0
CREATED:20260421T110039Z
LAST-MODIFIED:20260421T110039Z
DTSTART;TZID=US/Eastern:20260421T180000
DTEND;TZID=US/Eastern:20260421T180000
SUMMARY:HCMSA SPECIAL BOARD MEETING FOR TUESDAY APRIL 21ST\, 2026 @ 6:00PM
LOCATION:2675 Civic Center Drive
CATEGORIES:Events
URL:https://www.hcmsa.net/apps/events/40705741/
ORGANIZER;CN="Edlio Calendar":MAILTO:noreply@www.hcmsa.net
DTSTAMP:20260421T154815Z
END:VEVENT
BEGIN:VEVENT
UID:32987859@www.hcmsa.net#20250908
SEQUENCE:0
CREATED:20250904T133318Z
LAST-MODIFIED:20250904T133318Z
DTSTART;TZID=US/Eastern:20250908T184500
DTEND;TZID=US/Eastern:20250908T184500
SUMMARY:HCMSA BOARD MEETING FOR MONDAY SEPTEMBER 8TH\, 2025 @ 6:45 PM
CATEGORIES:Events
URL:https://www.hcmsa.net/apps/events/32987859/
ORGANIZER;CN="Edlio Calendar":MAILTO:noreply@www.hcmsa.net
DTSTAMP:20260421T154815Z
END:VEVENT
END:VCALENDAR
